BEGIN:VCALENDAR
VERSION:2.0
PRODID:-//Leeds Involving People - ECPv6.15.20//NONSGML v1.0//EN
CALSCALE:GREGORIAN
METHOD:PUBLISH
X-WR-CALNAME:Leeds Involving People
X-ORIGINAL-URL:https://www.leedsinvolvingpeople.org.uk
X-WR-CALDESC:Events for Leeds Involving People
REFRESH-INTERVAL;VALUE=DURATION:PT1H
X-Robots-Tag:noindex
X-PUBLISHED-TTL:PT1H
BEGIN:VTIMEZONE
TZID:Europe/London
BEGIN:DAYLIGHT
TZOFFSETFROM:+0000
TZOFFSETTO:+0100
TZNAME:BST
DTSTART:20250330T010000
END:DAYLIGHT
BEGIN:STANDARD
TZOFFSETFROM:+0100
TZOFFSETTO:+0000
TZNAME:GMT
DTSTART:20251026T010000
END:STANDARD
BEGIN:DAYLIGHT
TZOFFSETFROM:+0000
TZOFFSETTO:+0100
TZNAME:BST
DTSTART:20260329T010000
END:DAYLIGHT
BEGIN:STANDARD
TZOFFSETFROM:+0100
TZOFFSETTO:+0000
TZNAME:GMT
DTSTART:20261025T010000
END:STANDARD
BEGIN:DAYLIGHT
TZOFFSETFROM:+0000
TZOFFSETTO:+0100
TZNAME:BST
DTSTART:20270328T010000
END:DAYLIGHT
BEGIN:STANDARD
TZOFFSETFROM:+0100
TZOFFSETTO:+0000
TZNAME:GMT
DTSTART:20271031T010000
END:STANDARD
END:VTIMEZONE
BEGIN:VEVENT
DTSTART;TZID=Europe/London:20260130T103000
DTEND;TZID=Europe/London:20260130T123000
DTSTAMP:20260421T105916
CREATED:20251217T092333Z
LAST-MODIFIED:20251217T092333Z
UID:43052-1769769000-1769776200@www.leedsinvolvingpeople.org.uk
SUMMARY:Roots and Recipes Drop-In
DESCRIPTION:Roots & Recipes is a project led by Leeds Involving People\, bringing together refugees and asylum seekers in Leeds to share traditional recipes and the stories behind them. \nThis is an informal space where people can come and go during the session. There is no food provided or cooked at the sessions\, instead\, the focus is on conversation\, storytelling and sharing recipes that are meaningful to you. \nBy taking part\, you can: \n\nShare a traditional recipe from your culture\nTalk about the story\, memories or traditions linked to it\nMeet others and make connections in a friendly\, low-pressure environment\nContribute to a community recipe collection celebrating the diversity of Leeds\n\nYou don’t need to bring anything with you apart from your recipe (written\, remembered\, or just talked through). Support will be available to help people write down or submit their recipe if needed. \nYou’re welcome to drop in at any point during the session times\, or you can submit your recipe online if you’re unable to attend in person. \nFunded by the Austin and Hope Pilkington Trust.
URL:https://www.leedsinvolvingpeople.org.uk/event/roots-and-recipes-drop-in/
LOCATION:Richmond Hill Community Centre\, 8 Long Close Lane\, LS9 8NP
ATTACH;FMTTYPE=image/jpeg:https://www.leedsinvolvingpeople.org.uk/wp-content/uploads/2025/12/pexels-karola-g-4199098-scaled.jpg
END:VEVENT
END:VCALENDAR