BEGIN:VCALENDAR
VERSION:2.0
PRODID:-//Leeds Involving People - ECPv6.15.20//NONSGML v1.0//EN
CALSCALE:GREGORIAN
METHOD:PUBLISH
X-WR-CALNAME:Leeds Involving People
X-ORIGINAL-URL:https://www.leedsinvolvingpeople.org.uk
X-WR-CALDESC:Events for Leeds Involving People
REFRESH-INTERVAL;VALUE=DURATION:PT1H
X-Robots-Tag:noindex
X-PUBLISHED-TTL:PT1H
BEGIN:VTIMEZONE
TZID:Europe/London
BEGIN:DAYLIGHT
TZOFFSETFROM:+0000
TZOFFSETTO:+0100
TZNAME:BST
DTSTART:20250330T010000
END:DAYLIGHT
BEGIN:STANDARD
TZOFFSETFROM:+0100
TZOFFSETTO:+0000
TZNAME:GMT
DTSTART:20251026T010000
END:STANDARD
BEGIN:DAYLIGHT
TZOFFSETFROM:+0000
TZOFFSETTO:+0100
TZNAME:BST
DTSTART:20260329T010000
END:DAYLIGHT
BEGIN:STANDARD
TZOFFSETFROM:+0100
TZOFFSETTO:+0000
TZNAME:GMT
DTSTART:20261025T010000
END:STANDARD
BEGIN:DAYLIGHT
TZOFFSETFROM:+0000
TZOFFSETTO:+0100
TZNAME:BST
DTSTART:20270328T010000
END:DAYLIGHT
BEGIN:STANDARD
TZOFFSETFROM:+0100
TZOFFSETTO:+0000
TZNAME:GMT
DTSTART:20271031T010000
END:STANDARD
END:VTIMEZONE
BEGIN:VEVENT
DTSTART;TZID=Europe/London:20260421T193000
DTEND;TZID=Europe/London:20260421T213000
DTSTAMP:20260421T103437
CREATED:20260417T113130Z
LAST-MODIFIED:20260417T113130Z
UID:43510-1776799800-1776807000@www.leedsinvolvingpeople.org.uk
SUMMARY:African Women's Collective
DESCRIPTION:Join us at the next African Women’s Collective meeting\, where we’ll be talking openly about violence against women and girls (VAWG). \nThis is a space for African women to come together\, share experiences\, and shape how services respond. Too often\, voices go unheard and this is about changing that. \nWe’ll be having honest conversations about safety\, trust\, and what needs to improve. Your input will directly feed into work with West Yorkshire Police to help improve how they support African women. \nAlongside the information\, there will be time to talk\, connect\, enjoy refreshments and continue building the brilliant momentum of this growing group. \nAll African women are welcome – whether you’ve been before or it’s your first time.
URL:https://www.leedsinvolvingpeople.org.uk/event/african-womens-collective-4/
LOCATION:The Community Wellbeing Hub\, Reginald Terrace\, LS7 3EZ
ATTACH;FMTTYPE=image/jpeg:https://www.leedsinvolvingpeople.org.uk/wp-content/uploads/2025/12/pexels-planeteelevene-2301242-scaled.jpg
END:VEVENT
END:VCALENDAR