BEGIN:VCALENDAR
VERSION:2.0
PRODID:-//Leeds Involving People - ECPv6.15.20//NONSGML v1.0//EN
CALSCALE:GREGORIAN
METHOD:PUBLISH
X-WR-CALNAME:Leeds Involving People
X-ORIGINAL-URL:https://www.leedsinvolvingpeople.org.uk
X-WR-CALDESC:Events for Leeds Involving People
REFRESH-INTERVAL;VALUE=DURATION:PT1H
X-Robots-Tag:noindex
X-PUBLISHED-TTL:PT1H
BEGIN:VTIMEZONE
TZID:Europe/London
BEGIN:DAYLIGHT
TZOFFSETFROM:+0000
TZOFFSETTO:+0100
TZNAME:BST
DTSTART:20250330T010000
END:DAYLIGHT
BEGIN:STANDARD
TZOFFSETFROM:+0100
TZOFFSETTO:+0000
TZNAME:GMT
DTSTART:20251026T010000
END:STANDARD
BEGIN:DAYLIGHT
TZOFFSETFROM:+0000
TZOFFSETTO:+0100
TZNAME:BST
DTSTART:20260329T010000
END:DAYLIGHT
BEGIN:STANDARD
TZOFFSETFROM:+0100
TZOFFSETTO:+0000
TZNAME:GMT
DTSTART:20261025T010000
END:STANDARD
BEGIN:DAYLIGHT
TZOFFSETFROM:+0000
TZOFFSETTO:+0100
TZNAME:BST
DTSTART:20270328T010000
END:DAYLIGHT
BEGIN:STANDARD
TZOFFSETFROM:+0100
TZOFFSETTO:+0000
TZNAME:GMT
DTSTART:20271031T010000
END:STANDARD
END:VTIMEZONE
BEGIN:VEVENT
DTSTART;TZID=Europe/London:20260113T193000
DTEND;TZID=Europe/London:20260113T213000
DTSTAMP:20260421T093601
CREATED:20251208T112240Z
LAST-MODIFIED:20251208T112240Z
UID:42945-1768332600-1768339800@www.leedsinvolvingpeople.org.uk
SUMMARY:African Women's Collective
DESCRIPTION:The African Women’s Collective is excited to invite you to our next session\, where Voluntary Action Leeds will deliver Basic Safeguarding training designed for women in our community. This training will help you understand how to recognise concerns\, keep yourself and others safe\, and know where to get support when it’s needed. \nEveryone who completes the session will receive a certificate of attendance.To qualify for the certificate\, you must arrive by 7.30pm\, as VAL will be starting the main content promptly. \nThis is a friendly\, supportive session with space for questions and discussion. Whether you’re new to the Collective or you’ve been coming for a while\, you’ll be very welcome. \nIf you have any questions\, please get in touch. We’re looking forward to seeing you there.
URL:https://www.leedsinvolvingpeople.org.uk/event/african-womens-collective/
LOCATION:The Community Wellbeing Hub\, Reginald Terrace\, LS7 3EZ
ATTACH;FMTTYPE=image/jpeg:https://www.leedsinvolvingpeople.org.uk/wp-content/uploads/2025/12/pexels-planeteelevene-2301242-scaled.jpg
END:VEVENT
BEGIN:VEVENT
DTSTART;TZID=Europe/London:20260115T103000
DTEND;TZID=Europe/London:20260115T123000
DTSTAMP:20260421T093601
CREATED:20250609T152033Z
LAST-MODIFIED:20250609T152033Z
UID:30231-1768473000-1768480200@www.leedsinvolvingpeople.org.uk
SUMMARY:Leeds DEAForum
DESCRIPTION:Leeds DEAForum work to improve services for the Deaf community in Leeds.
URL:https://www.leedsinvolvingpeople.org.uk/event/leeds-deaforum-26/
LOCATION:Unity Business Centre\, 26 Roundhay Road\, Leeds\, West Yorkshire\, LS7 1AB\, United Kingdom
ATTACH;FMTTYPE=image/jpeg:https://www.leedsinvolvingpeople.org.uk/wp-content/uploads/2023/02/pexels-shvets-production-7516574-scaled.jpg
END:VEVENT
BEGIN:VEVENT
DTSTART;TZID=Europe/London:20260121T173000
DTEND;TZID=Europe/London:20260121T193000
DTSTAMP:20260421T093601
CREATED:20251208T114847Z
LAST-MODIFIED:20251208T114934Z
UID:42956-1769016600-1769023800@www.leedsinvolvingpeople.org.uk
SUMMARY:Forum for Race Equality in Social Care & Health
DESCRIPTION:FRESH is a vibrant\, long-standing Forum working in partnership with Leeds City Council\, NHS West Yorkshire ICB\, and organisations across the Third Sector. It brings people together to share real experiences\, challenge inequality\, and make sure racially minoritised communities are heard where decisions are made. \nFRESH feeds directly into several key networks across Leeds. Over the years\, members have played a crucial role in shaping work on Windrush\, the BME Your Health\, Your Say Conference\, NHS England’s prescription medicine management\, BME Day Services redesign\, and city-wide engagement by former CCGs. \nThe Forum has a reputation for being “Involvement Ready” – members bring lived experience\, insight\, and an honest voice that services trust. They are regularly asked to act as a critical friend\, making sure services understand what works (and what doesn’t) for communities across Leeds. \nMore recently\, FRESH has also helped influence Carers Assessments\, contributed to the delivery of PCREF in Leeds\, and fed into major strategic developments across Adults & Health and NHS partners. Its ongoing work continues to shape policy\, improve services\, and build better connections between communities and the people who design and deliver support.
URL:https://www.leedsinvolvingpeople.org.uk/event/forum-for-race-equality-in-social-care-health-18/
LOCATION:The Community Wellbeing Hub\, Reginald Terrace\, LS7 3EZ
ATTACH;FMTTYPE=image/jpeg:https://www.leedsinvolvingpeople.org.uk/wp-content/uploads/2025/12/pexels-sora-shimazaki-5935752-scaled.jpg
END:VEVENT
BEGIN:VEVENT
DTSTART;TZID=Europe/London:20260126T130000
DTEND;TZID=Europe/London:20260126T150000
DTSTAMP:20260421T093601
CREATED:20251208T123620Z
LAST-MODIFIED:20251208T123645Z
UID:42969-1769432400-1769439600@www.leedsinvolvingpeople.org.uk
SUMMARY:Together We Can - Mental Health Network Meeting
DESCRIPTION:Together We Can is our lived-experience mental health network\, bringing people together to share what’s working\, what isn’t\, and what needs to change across Leeds. It’s a space where people feel heard\, supported\, and included\, with a strong focus on improving mental health services for everyone. \nThe group is made up of people with real experience of mental health challenges\, carers\, and community members who want services to feel more human\, more responsive\, and easier to access. This insight shapes everything we do. Members have helped influence the Leeds Mental Health Framework\, created the six Mental Health “I Statements\,” and continue to guide plans across the city so that decision-makers understand what people actually need. \nTogether We Can runs regular sessions\, conversations\, and opportunities for people to get involved at whatever level feels right for them. Some people simply come along to feel connected and understood; others share feedback\, take part in workshops\, or get involved in shaping service improvements. \nEverything we do is about strengthening voices\, reducing stigma\, and making sure lived experience is at the heart of mental health work in Leeds.
URL:https://www.leedsinvolvingpeople.org.uk/event/together-we-can-mental-health-network-meeting/
LOCATION:Unity Business Centre\, 26 Roundhay Road\, Leeds\, West Yorkshire\, LS7 1AB\, United Kingdom
ATTACH;FMTTYPE=image/jpeg:https://www.leedsinvolvingpeople.org.uk/wp-content/uploads/2024/11/TWC-logo-high-res.jpg
END:VEVENT
BEGIN:VEVENT
DTSTART;TZID=Europe/London:20260127T193000
DTEND;TZID=Europe/London:20260127T213000
DTSTAMP:20260421T093601
CREATED:20251208T112444Z
LAST-MODIFIED:20251208T112444Z
UID:42950-1769542200-1769549400@www.leedsinvolvingpeople.org.uk
SUMMARY:African Women's Collective
DESCRIPTION:Join us for our next African Women’s Collective session where we’ll be welcoming Leeds Health Awareness to share important information about cancer screenings\, women’s health\, and how to understand the support available in Leeds. \nWe know that many women in our community don’t always get clear information about screening programmes or where to get help\, so this session is designed to give you simple\, accessible guidance and a chance to ask questions in a safe\, friendly space. \nWe’ll also be providing specific information about support available in Leeds for women affected by FGM\, including services that offer confidential advice\, emotional support\, and specialist healthcare. \nAs always\, the session is relaxed and open to all African women in Leeds.
URL:https://www.leedsinvolvingpeople.org.uk/event/african-womens-collective-2/
LOCATION:The Community Wellbeing Hub\, Reginald Terrace\, LS7 3EZ
ATTACH;FMTTYPE=image/jpeg:https://www.leedsinvolvingpeople.org.uk/wp-content/uploads/2025/12/pexels-planeteelevene-2301242-scaled.jpg
END:VEVENT
BEGIN:VEVENT
DTSTART;TZID=Europe/London:20260130T103000
DTEND;TZID=Europe/London:20260130T123000
DTSTAMP:20260421T093601
CREATED:20251217T092333Z
LAST-MODIFIED:20251217T092333Z
UID:43052-1769769000-1769776200@www.leedsinvolvingpeople.org.uk
SUMMARY:Roots and Recipes Drop-In
DESCRIPTION:Roots & Recipes is a project led by Leeds Involving People\, bringing together refugees and asylum seekers in Leeds to share traditional recipes and the stories behind them. \nThis is an informal space where people can come and go during the session. There is no food provided or cooked at the sessions\, instead\, the focus is on conversation\, storytelling and sharing recipes that are meaningful to you. \nBy taking part\, you can: \n\nShare a traditional recipe from your culture\nTalk about the story\, memories or traditions linked to it\nMeet others and make connections in a friendly\, low-pressure environment\nContribute to a community recipe collection celebrating the diversity of Leeds\n\nYou don’t need to bring anything with you apart from your recipe (written\, remembered\, or just talked through). Support will be available to help people write down or submit their recipe if needed. \nYou’re welcome to drop in at any point during the session times\, or you can submit your recipe online if you’re unable to attend in person. \nFunded by the Austin and Hope Pilkington Trust.
URL:https://www.leedsinvolvingpeople.org.uk/event/roots-and-recipes-drop-in/
LOCATION:Richmond Hill Community Centre\, 8 Long Close Lane\, LS9 8NP
ATTACH;FMTTYPE=image/jpeg:https://www.leedsinvolvingpeople.org.uk/wp-content/uploads/2025/12/pexels-karola-g-4199098-scaled.jpg
END:VEVENT
END:VCALENDAR